BEGIN:VCALENDAR
VERSION:2.0
PRODID:-//POAT - ECPv6.14.1//NONSGML v1.0//EN
CALSCALE:GREGORIAN
METHOD:PUBLISH
X-WR-CALNAME:POAT
X-ORIGINAL-URL:https://poat.org
X-WR-CALDESC:Events for POAT
REFRESH-INTERVAL;VALUE=DURATION:PT1H
X-Robots-Tag:noindex
X-PUBLISHED-TTL:PT1H
BEGIN:VTIMEZONE
TZID:America/New_York
BEGIN:DAYLIGHT
TZOFFSETFROM:-0500
TZOFFSETTO:-0400
TZNAME:EDT
DTSTART:20230312T070000
END:DAYLIGHT
BEGIN:STANDARD
TZOFFSETFROM:-0400
TZOFFSETTO:-0500
TZNAME:EST
DTSTART:20231105T060000
END:STANDARD
BEGIN:DAYLIGHT
TZOFFSETFROM:-0500
TZOFFSETTO:-0400
TZNAME:EDT
DTSTART:20240310T070000
END:DAYLIGHT
BEGIN:STANDARD
TZOFFSETFROM:-0400
TZOFFSETTO:-0500
TZNAME:EST
DTSTART:20241103T060000
END:STANDARD
BEGIN:DAYLIGHT
TZOFFSETFROM:-0500
TZOFFSETTO:-0400
TZNAME:EDT
DTSTART:20250309T070000
END:DAYLIGHT
BEGIN:STANDARD
TZOFFSETFROM:-0400
TZOFFSETTO:-0500
TZNAME:EST
DTSTART:20251102T060000
END:STANDARD
END:VTIMEZONE
BEGIN:VEVENT
DTSTART;VALUE=DATE:20251027
DTEND;VALUE=DATE:20251028
DTSTAMP:20260421T045017
CREATED:20251027T190340Z
LAST-MODIFIED:20251027T191009Z
UID:2058-1761523200-1761609599@poat.org
SUMMARY:2026 Championship Badge: Pre-Order Sales
DESCRIPTION:Don’t miss the opportunity to pre-order your Authorized Miami-Dade Sheriff’s Office 2026 Championship Badge and Lapel pin.   A true collector’s item.  \nThe Badge may be worn by all MDSO sworn personnel from January 19\, 2026 – July 19\, 2026.\nSpecial pricing for the early bird.\nShipping is available (for non-MDSO personnel) for an additional $15.00 per badge. \nZelle payment available using poatoffice@msn.com. Make sure to include 2026 Championship Badge in the notes section.  \n Screenshot proof of payment to Annette McCully at amccully@mdso.com
URL:https://poat.org/event/2026-championship-badge-pre-order-sales/
CATEGORIES:Fundraiser
ATTACH;FMTTYPE=image/png:https://poat.org/wp-content/uploads/2025/10/website-flyer.png
END:VEVENT
BEGIN:VEVENT
DTSTART;VALUE=DATE:20250722
DTEND;VALUE=DATE:20250831
DTSTAMP:20260421T045017
CREATED:20250722T164608Z
LAST-MODIFIED:20250805T160807Z
UID:1854-1753142400-1756598399@poat.org
SUMMARY:Donate to Kerr County\, Texas Flood Victims
DESCRIPTION:  \n\nSheriff Rosie Cordero-Stutz of the Miami-Dade Sheriff’s Office is leading a heartfelt \ninitiative to aid those affected by the recent floods in Kerr County\, Texas. In \ncollaboration with Florida State Representative District 115 Omar Blanco\, \nVillage of Palmetto Bay Mayor Karyn Cunningham and Miami-Dade County District 4 \nCommissioner Micky Steinberg\, monetary donations are being collected to provide \nmuch-needed relief to the flood victims. For those interested in contributing\, \ndonations can be made through the Police Officer Assistance Trust. \nAll monetary donations will be directed to the Kerr County Relief Fund.
URL:https://poat.org/event/donate-to-kerr-county-texas-flood-victims/
CATEGORIES:Fundraiser
END:VEVENT
BEGIN:VEVENT
DTSTART;TZID=America/New_York:20230520T070000
DTEND;TZID=America/New_York:20230520T070000
DTSTAMP:20260421T045017
CREATED:20210427T160710Z
LAST-MODIFIED:20230421T140238Z
UID:1205-1684566000-1684566000@poat.org
SUMMARY:HPOA MOTORCYCLE RIDE
DESCRIPTION:Come join us in supporting the Hispanic Police Officer Association Annual Ride for Kidz to Gilberts Resort\, Key Largo on Saturday\, May 20\, 2023. The ride will benefit the Jackson West-Jose Milton Pediatric Wing\, HPOA Foundation and POAT. \nRegister for the event here \n 
URL:https://poat.org/event/hpoa-motorcycle-ride/
LOCATION:MDSO Headquarters to Gilbert’s Resort\, 9105 NW 25TH ST\, MIAMI\, FL\, 33172\, United States
CATEGORIES:Fundraiser
ATTACH;FMTTYPE=image/jpeg:https://poat.org/wp-content/uploads/2021/04/Resized_IMG_2973.jpg
END:VEVENT
END:VCALENDAR