BEGIN:VCALENDAR
VERSION:2.0
PRODID:-//POAT - ECPv6.14.1//NONSGML v1.0//EN
CALSCALE:GREGORIAN
METHOD:PUBLISH
X-ORIGINAL-URL:https://poat.org
X-WR-CALDESC:Events for POAT
REFRESH-INTERVAL;VALUE=DURATION:PT1H
X-Robots-Tag:noindex
X-PUBLISHED-TTL:PT1H
BEGIN:VTIMEZONE
TZID:America/New_York
BEGIN:DAYLIGHT
TZOFFSETFROM:-0500
TZOFFSETTO:-0400
TZNAME:EDT
DTSTART:20250309T070000
END:DAYLIGHT
BEGIN:STANDARD
TZOFFSETFROM:-0400
TZOFFSETTO:-0500
TZNAME:EST
DTSTART:20251102T060000
END:STANDARD
END:VTIMEZONE
BEGIN:VEVENT
DTSTART;TZID=America/New_York:20251106T113000
DTEND;TZID=America/New_York:20251106T140000
DTSTAMP:20260421T063610
CREATED:20251006T195556Z
LAST-MODIFIED:20251027T190712Z
UID:2023-1762428600-1762437600@poat.org
SUMMARY:2025 Veterans Appreciation Luncheon
DESCRIPTION:Hosted by the Cecil & Ana Milton Family Foundation along with the POAT at the InterContinental Hotel at Doral. \nPlease RSVP by October 31\, 2025\, to Annette McCully at amccully@mdso.com or 305-970-2776.
URL:https://poat.org/event/2025-veterans-appreciation-luncheon/
LOCATION:FL
ATTACH;FMTTYPE=image/png:https://poat.org/wp-content/uploads/2025/10/Veterans-flyer-2025-with-Qr-Code.png
END:VEVENT
BEGIN:VEVENT
DTSTART;VALUE=DATE:20251120
DTEND;VALUE=DATE:20251121
DTSTAMP:20260421T063610
CREATED:20251117T141911Z
LAST-MODIFIED:20251117T143224Z
UID:2085-1763596800-1763683199@poat.org
SUMMARY:Miami Beach Motorman David Cajuso
DESCRIPTION:
URL:https://poat.org/event/miami-beach-motorman-david-cajuso/
LOCATION:City of Miami Beach\, United States
ATTACH;FMTTYPE=image/png:https://poat.org/wp-content/uploads/2025/11/20251114-FlyerPOAT.png
END:VEVENT
END:VCALENDAR